BEGIN:VCALENDAR
VERSION:2.0
PRODID:-//The Acton Garden Club - ECPv6.15.20//NONSGML v1.0//EN
CALSCALE:GREGORIAN
METHOD:PUBLISH
X-WR-CALNAME:The Acton Garden Club
X-ORIGINAL-URL:https://www.actongardenclub.org/staging/5475
X-WR-CALDESC:Events for The Acton Garden Club
REFRESH-INTERVAL;VALUE=DURATION:PT1H
X-Robots-Tag:noindex
X-PUBLISHED-TTL:PT1H
BEGIN:VTIMEZONE
TZID:America/New_York
BEGIN:DAYLIGHT
TZOFFSETFROM:-0500
TZOFFSETTO:-0400
TZNAME:EDT
DTSTART:20250309T070000
END:DAYLIGHT
BEGIN:STANDARD
TZOFFSETFROM:-0400
TZOFFSETTO:-0500
TZNAME:EST
DTSTART:20251102T060000
END:STANDARD
BEGIN:DAYLIGHT
TZOFFSETFROM:-0500
TZOFFSETTO:-0400
TZNAME:EDT
DTSTART:20260308T070000
END:DAYLIGHT
BEGIN:STANDARD
TZOFFSETFROM:-0400
TZOFFSETTO:-0500
TZNAME:EST
DTSTART:20261101T060000
END:STANDARD
BEGIN:DAYLIGHT
TZOFFSETFROM:-0500
TZOFFSETTO:-0400
TZNAME:EDT
DTSTART:20270314T070000
END:DAYLIGHT
BEGIN:STANDARD
TZOFFSETFROM:-0400
TZOFFSETTO:-0500
TZNAME:EST
DTSTART:20271107T060000
END:STANDARD
END:VTIMEZONE
BEGIN:VEVENT
DTSTART;VALUE=DATE:20260501
DTEND;VALUE=DATE:20260504
DTSTAMP:20260422T223903
CREATED:20251004T053551Z
LAST-MODIFIED:20251004T053551Z
UID:2220-1777593600-1777852799@www.actongardenclub.org
SUMMARY:Art in Bloom
DESCRIPTION:Museum of Fine Arts\, Boston
URL:https://www.actongardenclub.org/staging/5475/event/art-in-bloom/
END:VEVENT
BEGIN:VEVENT
DTSTART;TZID=America/New_York:20260505T090000
DTEND;TZID=America/New_York:20260505T103000
DTSTAMP:20260422T223903
CREATED:20251021T000846Z
LAST-MODIFIED:20251021T000846Z
UID:2346-1777971600-1777977000@www.actongardenclub.org
SUMMARY:Business Meeting (Members Only)
DESCRIPTION:Hostess : Lora Maloney\nCommittee : Nancy Dickinson • Shalini Lobo • Joy Madden • Lori Weissberg \nSocial Time : 9:00 am\nBusiness Meeting : 9:30 am \nLight Refreshments • Bring your own beverage\nSt. Matthew’s United Methodist Church (no Zoom)
URL:https://www.actongardenclub.org/staging/5475/event/business-meeting-members-only-8/
LOCATION:St. Matthew’s United Methodist Church\, 435 Central St\, Acton\, MA\, 01720\, United States
END:VEVENT
BEGIN:VEVENT
DTSTART;TZID=America/New_York:20260505T103000
DTEND;TZID=America/New_York:20260505T120000
DTSTAMP:20260422T223903
CREATED:20251004T053454Z
LAST-MODIFIED:20251004T053742Z
UID:2218-1777977000-1777982400@www.actongardenclub.org
SUMMARY:Unhidden Gems with Debra Dellanina-Alvarez\, Saved by the Garden
DESCRIPTION:Date May 5\, 2026 10:30am \nLocation St Matthews Church \nSpeaker Debra Dellanina-Alvarez\, Saved by the Garden \nTopic Unhidden Gems \nDescription We will join Debra to saunter through gardens filled with fascinating plants\, ideas\, and surprising back stories. Together we’ll virtually explore the unexpected shapes and colorful blooms of the Great Southwest\, visit the compelling plants of the Jurassic period and the creatively designed “unhidden\,” yet secret gardens found right here in New England. \nSt. Matthew’s United Methodist Church (no Zoom)\nSocial Time 9:00 am\nBusiness Meeting 9:30 am\nProgram 10:30 am\nLight Refreshments • Bring your own beverage\nHostess: Lora Maloney\nCommittee : Nancy Dickinson • Shalini Lobo • Joy Madden • Lori Weissberg
URL:https://www.actongardenclub.org/staging/5475/event/unhidden-gems/
LOCATION:St. Matthew’s United Methodist Church\, 435 Central St\, Acton\, MA\, 01720\, United States
END:VEVENT
BEGIN:VEVENT
DTSTART;TZID=America/New_York:20260516T090000
DTEND;TZID=America/New_York:20260516T130000
DTSTAMP:20260422T223903
CREATED:20251004T053704Z
LAST-MODIFIED:20260210T034427Z
UID:2222-1778922000-1778936400@www.actongardenclub.org
SUMMARY:Annual Plant Sale
DESCRIPTION:Acton Garden Club Plant Sale\nMay 16\, 2026!\n\n9 AM to 1 PM\nActon Red House\n486 Main Street\nActon\, MA 01720\n\n\nThe Acton Garden Club will hold its Annual Plant Sale on Saturday\, May 16th\, from 9:00 am to 1:00 pm rain or shine at the Red House – 468 Main Street\, Acton\, MA.\n\nCome early for the best selections of Annuals\, Perennials\, Native Plants\, House Plants and locally grown herbs\, vegetables\, shrubs\, and trees. Take advantage of our Master Gardeners for answers to all your gardening questions.  Visit our Resource Table for information on topics ranging from Ticks\, Garlic Mustard and Managing Invasive to Natives\, Gardening Tips and Membership.\n\nProceeds of the Annual Garden Sale support our community\, through scholarships for graduating ABHS seniors\, maintenance of town gardens and planters\, and educational programs for the community and club members.
URL:https://www.actongardenclub.org/staging/5475/event/annual-plant-sale/
LOCATION:The Red House\, 468 Main Street\, Acton\, MA\, 01720\, United States
END:VEVENT
BEGIN:VEVENT
DTSTART;TZID=America/New_York:20260519T090000
DTEND;TZID=America/New_York:20260519T120000
DTSTAMP:20260422T223903
CREATED:20251004T053824Z
LAST-MODIFIED:20251004T053824Z
UID:2226-1779181200-1779192000@www.actongardenclub.org
SUMMARY:Horticulture Study Group
DESCRIPTION:How to Prepare Horticulture Specimens for a Flower\nShow\nProgram Leader: Phyllis McDonough\nLocation: Public Safety Building\n371 Main Street\nRefreshments: Heather Makris
URL:https://www.actongardenclub.org/staging/5475/event/horticulture-study-group-9/
LOCATION:Public Safety Building\, 371 Main Street\, Acton\, MA\, 01720\, United States
END:VEVENT
BEGIN:VEVENT
DTSTART;TZID=America/New_York:20260526T090000
DTEND;TZID=America/New_York:20260526T120000
DTSTAMP:20260422T223903
CREATED:20251004T053854Z
LAST-MODIFIED:20251004T053854Z
UID:2228-1779786000-1779796800@www.actongardenclub.org
SUMMARY:Board Meeting
DESCRIPTION:Location: Home of Maura Sharp\nRefreshments: Laura Wolfe
URL:https://www.actongardenclub.org/staging/5475/event/board-meeting-9/
END:VEVENT
END:VCALENDAR