BEGIN:VCALENDAR
VERSION:2.0
PRODID:-//The Acton Garden Club - ECPv6.15.20//NONSGML v1.0//EN
CALSCALE:GREGORIAN
METHOD:PUBLISH
X-ORIGINAL-URL:https://www.actongardenclub.org/staging/5475
X-WR-CALDESC:Events for The Acton Garden Club
REFRESH-INTERVAL;VALUE=DURATION:PT1H
X-Robots-Tag:noindex
X-PUBLISHED-TTL:PT1H
BEGIN:VTIMEZONE
TZID:America/New_York
BEGIN:DAYLIGHT
TZOFFSETFROM:-0500
TZOFFSETTO:-0400
TZNAME:EDT
DTSTART:20250309T070000
END:DAYLIGHT
BEGIN:STANDARD
TZOFFSETFROM:-0400
TZOFFSETTO:-0500
TZNAME:EST
DTSTART:20251102T060000
END:STANDARD
BEGIN:DAYLIGHT
TZOFFSETFROM:-0500
TZOFFSETTO:-0400
TZNAME:EDT
DTSTART:20260308T070000
END:DAYLIGHT
BEGIN:STANDARD
TZOFFSETFROM:-0400
TZOFFSETTO:-0500
TZNAME:EST
DTSTART:20261101T060000
END:STANDARD
BEGIN:DAYLIGHT
TZOFFSETFROM:-0500
TZOFFSETTO:-0400
TZNAME:EDT
DTSTART:20270314T070000
END:DAYLIGHT
BEGIN:STANDARD
TZOFFSETFROM:-0400
TZOFFSETTO:-0500
TZNAME:EST
DTSTART:20271107T060000
END:STANDARD
END:VTIMEZONE
BEGIN:VEVENT
DTSTART;TZID=America/New_York:20260303T090000
DTEND;TZID=America/New_York:20260303T103000
DTSTAMP:20260422T224002
CREATED:20251020T235032Z
LAST-MODIFIED:20251020T235032Z
UID:2338-1772528400-1772533800@www.actongardenclub.org
SUMMARY:Business Meeting (Members Only)
DESCRIPTION:Hostess\nSunni Raney \nCommittee\nAllison Bakow • Amy Leffler • Mary Martyak • Stephanie Reid \nActon Town Hall\, Room 204 (no Zoom)\nSocial Time 9:00 am\nBusiness Meeting  9:30 am \nLight Refreshments • Bring your own beverage
URL:https://www.actongardenclub.org/staging/5475/event/business-meeting-members-only-4/
END:VEVENT
BEGIN:VEVENT
DTSTART;TZID=America/New_York:20260303T103000
DTEND;TZID=America/New_York:20260303T120000
DTSTAMP:20260422T224002
CREATED:20251004T052618Z
LAST-MODIFIED:20260113T022813Z
UID:2202-1772533800-1772539200@www.actongardenclub.org
SUMMARY:Beauty on the Wing | Life Story of the Monarch Butterfly
DESCRIPTION:Date Mar 3\, 2026 10:30am \nLocation Acton Town Hall Room 204 \nSpeaker Kim Smith\, Documentary Filmmaker \nTopic Beauty on the Wing | Life Story of the Monarch Butterfly \nDescription Experience the inspirational story of a magnificent species found in our own backyards!  Kim will present her award-winning movie filmed along the shores of Cape Ann and in the heart of Mexico’s forested volcanic mountains. Every stage of the butterfly’s life cycle is experienced in vibrant close-up\, from egg to caterpillar to adult and set to the background of sea and forest\, sun and wind. Movie runtime is 56 minutes followed by Q&A. \nKim Smith is a documentary filmmaker\, wildlife conservationist\, lecturer\, photojournalist\, author\, illustrator\, and an award-winning landscape designer. \nKim’s first film in the threatened species film trilogy\, Beauty on the Wing: Life Story of the Monarch Butterfly\, is a narrated documentary that premiered in August 2020. Since its premier\, Beauty on the Wing has received a number of honors and awards at environmental and children’s film festivals. \nThe Piping Plovers of Moonlight Bay\, the second film in the trilogy\, is a feature-length documentary that premiered in September 2024. At the time of this writing\, the documentary has been accepted at twenty-two film festivals and received numerous awards. \nOne of the greatest hopes for our nature documentaries is that they are inspirational and educational to both adults and children and we are delighted that the films are finding their audiences. \nKim was recently interviewed by the BBC and PBS for her work in documenting the Monarch Butterflies. She worked with the show’s producers in writing and creating the story\, providing film footage from her film Beauty on the Wing: Life Story of the Monarch Butterfly for the BBC produced show “Autumnwatch: New England.” \nActon Town Hall\, Room 204 (no Zoom)\nSocial Time 9:00 am\nBusiness Meeting 9:30 am\nProgram 10:30 am\nLight Refreshments • Bring your own beverage\nHostess: Sunni Raney\nCommittee: Allison Bakow • Amy Leffler • Mary Martyak • Stephanie Reid
URL:https://www.actongardenclub.org/staging/5475/event/beauty-on-the-wing-life-story-of-the-monarch-butterfly/
LOCATION:Acton Town Hall\, Room 204\, 472 Main St\, Acton\, MA\, 01720\, United States
END:VEVENT
BEGIN:VEVENT
DTSTART;TZID=America/New_York:20260310T090000
DTEND;TZID=America/New_York:20260310T170000
DTSTAMP:20260422T224002
CREATED:20251004T052741Z
LAST-MODIFIED:20251004T052824Z
UID:2205-1773133200-1773162000@www.actongardenclub.org
SUMMARY:Horticulture Study Group
DESCRIPTION:Flowers and Seeds\nProgram Leader: Helen Webster\nLocation: Home of Helen Webster\nRefreshments: Janet Irons \n  \nLarge Horticulture Projects Undertaken by The Club for the Town\nOver the years\, the Club has undertaken several large horticulture  projects. In 1938 the Club worked with the Town to improve the landscaping at the new High School (now apartments in the old\nMcCarthy Towne School). In the early 60s the Club was asked to revitalize Meeting House Hill with a garden plan and plantings. This was a twofold project involving a wildflower garden and the\nbeautification of the hill facing Main Street with trees and daffodils. In 1984 for the Club’s 50th anniversary\, the Oval Garden was designed and installed in front of Town Hall. For our 90th anniversary last year\, the Oval Garden was revitalized with a new design\, a fountain and new plantings. Every year planters in West Acton\, Acton Center and the fire/police station are filled with seasonal flowers to beautify the Town.
URL:https://www.actongardenclub.org/staging/5475/event/horticulture-study-group-7/
END:VEVENT
BEGIN:VEVENT
DTSTART;TZID=America/New_York:20260317T090000
DTEND;TZID=America/New_York:20260317T120000
DTSTAMP:20260422T224002
CREATED:20251004T052934Z
LAST-MODIFIED:20251004T052934Z
UID:2208-1773738000-1773748800@www.actongardenclub.org
SUMMARY:Floral Design Study Group
DESCRIPTION:“Envision” – Parallel Design\nLeaders: Cathy Fochtman and Thelma Shoneman\nLocation: St. Matthew’s United Methodist Church\nWe’ll celebrate St. Patrick’s Day with a distinctive parallel design. Good things are worth repeating! \nAll components will be provided. Bring floral shears\, wire cutters and toolbox. Cost $25.
URL:https://www.actongardenclub.org/staging/5475/event/floral-design-study-group-3/
LOCATION:St. Matthew’s United Methodist Church\, 435 Central St\, Acton\, MA\, 01720\, United States
END:VEVENT
BEGIN:VEVENT
DTSTART;TZID=America/New_York:20260331T090000
DTEND;TZID=America/New_York:20260331T120000
DTSTAMP:20260422T224002
CREATED:20251004T053005Z
LAST-MODIFIED:20251004T053005Z
UID:2210-1774947600-1774958400@www.actongardenclub.org
SUMMARY:Board Meeting
DESCRIPTION:Location: Home of Helen Webster \nRefreshments: Karen Martin
URL:https://www.actongardenclub.org/staging/5475/event/board-meeting-7/
END:VEVENT
END:VCALENDAR