BEGIN:VCALENDAR
VERSION:2.0
PRODID:-//The Acton Garden Club - ECPv6.15.20//NONSGML v1.0//EN
CALSCALE:GREGORIAN
METHOD:PUBLISH
X-WR-CALNAME:The Acton Garden Club
X-ORIGINAL-URL:https://www.actongardenclub.org/staging/5475
X-WR-CALDESC:Events for The Acton Garden Club
REFRESH-INTERVAL;VALUE=DURATION:PT1H
X-Robots-Tag:noindex
X-PUBLISHED-TTL:PT1H
BEGIN:VTIMEZONE
TZID:America/New_York
BEGIN:DAYLIGHT
TZOFFSETFROM:-0500
TZOFFSETTO:-0400
TZNAME:EDT
DTSTART:20250309T070000
END:DAYLIGHT
BEGIN:STANDARD
TZOFFSETFROM:-0400
TZOFFSETTO:-0500
TZNAME:EST
DTSTART:20251102T060000
END:STANDARD
BEGIN:DAYLIGHT
TZOFFSETFROM:-0500
TZOFFSETTO:-0400
TZNAME:EDT
DTSTART:20260308T070000
END:DAYLIGHT
BEGIN:STANDARD
TZOFFSETFROM:-0400
TZOFFSETTO:-0500
TZNAME:EST
DTSTART:20261101T060000
END:STANDARD
BEGIN:DAYLIGHT
TZOFFSETFROM:-0500
TZOFFSETTO:-0400
TZNAME:EDT
DTSTART:20270314T070000
END:DAYLIGHT
BEGIN:STANDARD
TZOFFSETFROM:-0400
TZOFFSETTO:-0500
TZNAME:EST
DTSTART:20271107T060000
END:STANDARD
END:VTIMEZONE
BEGIN:VEVENT
DTSTART;TZID=America/New_York:20260113T090000
DTEND;TZID=America/New_York:20260113T120000
DTSTAMP:20260423T020020
CREATED:20251004T051730Z
LAST-MODIFIED:20251004T051730Z
UID:2181-1768294800-1768305600@www.actongardenclub.org
SUMMARY:Horticulture Study Group
DESCRIPTION:Annual Planning Meeting\nGardening Book and Magazine Swap\nLeader: Susanne Fuller\nLocation: Public Safety Building\n371 Main Sreet\nRefreshments: Barbara Wissell
URL:https://www.actongardenclub.org/staging/5475/event/horticulture-study-group-5/
LOCATION:Public Safety Building\, 371 Main Street\, Acton\, MA\, 01720\, United States
END:VEVENT
BEGIN:VEVENT
DTSTART;TZID=America/New_York:20260120T090000
DTEND;TZID=America/New_York:20260120T120000
DTSTAMP:20260423T020020
CREATED:20251004T051913Z
LAST-MODIFIED:20251004T051913Z
UID:2183-1768899600-1768910400@www.actongardenclub.org
SUMMARY:Floral Design Study Group
DESCRIPTION:“Envision” – Horizontal Design\nLeaders: Cathy Fochtman and Thelma Shoneman\nLocation: St. Matthew’s United Methodist Church\nLet’s go WIDE with our study of traditional horizontal line design. \nBring pruners\, wire cutters\nand toolbox. Cost $25
URL:https://www.actongardenclub.org/staging/5475/event/floral-design-study-group-2/
LOCATION:St. Matthew’s United Methodist Church\, 435 Central St\, Acton\, MA\, 01720\, United States
END:VEVENT
BEGIN:VEVENT
DTSTART;TZID=America/New_York:20260127T090000
DTEND;TZID=America/New_York:20260127T120000
DTSTAMP:20260423T020020
CREATED:20251004T052004Z
LAST-MODIFIED:20251004T052004Z
UID:2186-1769504400-1769515200@www.actongardenclub.org
SUMMARY:Board Meeting
DESCRIPTION:Location: Home of Cathy Fochtman\nRefreshments: Anne Sterling
URL:https://www.actongardenclub.org/staging/5475/event/board-meeting-5/
END:VEVENT
BEGIN:VEVENT
DTSTART;VALUE=DATE:20260131
DTEND;VALUE=DATE:20260201
DTSTAMP:20260423T020020
CREATED:20251004T052033Z
LAST-MODIFIED:20251004T052033Z
UID:2188-1769817600-1769903999@www.actongardenclub.org
SUMMARY:Financial Reports Due
DESCRIPTION:Financial Reports Due
URL:https://www.actongardenclub.org/staging/5475/event/financial-reports-due/
END:VEVENT
END:VCALENDAR