BEGIN:VCALENDAR
VERSION:2.0
PRODID:-//The Acton Garden Club - ECPv6.15.20//NONSGML v1.0//EN
CALSCALE:GREGORIAN
METHOD:PUBLISH
X-WR-CALNAME:The Acton Garden Club
X-ORIGINAL-URL:https://www.actongardenclub.org/staging/5475
X-WR-CALDESC:Events for The Acton Garden Club
REFRESH-INTERVAL;VALUE=DURATION:PT1H
X-Robots-Tag:noindex
X-PUBLISHED-TTL:PT1H
BEGIN:VTIMEZONE
TZID:America/New_York
BEGIN:DAYLIGHT
TZOFFSETFROM:-0500
TZOFFSETTO:-0400
TZNAME:EDT
DTSTART:20240310T070000
END:DAYLIGHT
BEGIN:STANDARD
TZOFFSETFROM:-0400
TZOFFSETTO:-0500
TZNAME:EST
DTSTART:20241103T060000
END:STANDARD
BEGIN:DAYLIGHT
TZOFFSETFROM:-0500
TZOFFSETTO:-0400
TZNAME:EDT
DTSTART:20250309T070000
END:DAYLIGHT
BEGIN:STANDARD
TZOFFSETFROM:-0400
TZOFFSETTO:-0500
TZNAME:EST
DTSTART:20251102T060000
END:STANDARD
BEGIN:DAYLIGHT
TZOFFSETFROM:-0500
TZOFFSETTO:-0400
TZNAME:EDT
DTSTART:20260308T070000
END:DAYLIGHT
BEGIN:STANDARD
TZOFFSETFROM:-0400
TZOFFSETTO:-0500
TZNAME:EST
DTSTART:20261101T060000
END:STANDARD
END:VTIMEZONE
BEGIN:VEVENT
DTSTART;TZID=America/New_York:20251007T103000
DTEND;TZID=America/New_York:20251007T120000
DTSTAMP:20260423T075854
CREATED:20251004T020401Z
LAST-MODIFIED:20251004T033337Z
UID:2119-1759833000-1759838400@www.actongardenclub.org
SUMMARY:All About Cranberries with Deb Kanady\, Cranberry Tour Guide
DESCRIPTION:We won’t travel to Cape Cod for a tour\, but this is the next best thing. How are cranberries grown and harvested? What makes them such a special New England crop? \nDeb Kanady is a retired cancer center mental health counselor and researcher who moved to South Plymouth and lives in the cranberry bogs. She is a trained cranberry tour guide for Cape Cod Cranberry Growers Association and several local farms and an avid birder and trekker.   We look forward to learning about about cranberries! \nOctober 7\, 2025\nActon Town Hall\, Room 204\, and Zoom\nSocial Time 9:00 am\nActon’s Looking Good Winners 9:30 am \nBusiness Meeting 9:45 am\nProgram 10:30 am \nLight Refreshments • Bring your own beverage \nHostess\nKara Osselmann \nCommittee \nMelissa Coucke • Susan Harrigan • Janet Irons • Mary Nadwairski
URL:https://www.actongardenclub.org/staging/5475/event/all-about-cranberries-with-deb-kanady-cranberry-tour-guide/
LOCATION:Acton Town Hall\, Room 204\, 472 Main St\, Acton\, MA\, 01720\, United States
END:VEVENT
END:VCALENDAR