BEGIN:VCALENDAR
VERSION:2.0
PRODID:-//The Acton Garden Club - ECPv6.15.20//NONSGML v1.0//EN
CALSCALE:GREGORIAN
METHOD:PUBLISH
X-ORIGINAL-URL:https://www.actongardenclub.org
X-WR-CALDESC:Events for The Acton Garden Club
REFRESH-INTERVAL;VALUE=DURATION:PT1H
X-Robots-Tag:noindex
X-PUBLISHED-TTL:PT1H
BEGIN:VTIMEZONE
TZID:America/New_York
BEGIN:DAYLIGHT
TZOFFSETFROM:-0500
TZOFFSETTO:-0400
TZNAME:EDT
DTSTART:20250309T070000
END:DAYLIGHT
BEGIN:STANDARD
TZOFFSETFROM:-0400
TZOFFSETTO:-0500
TZNAME:EST
DTSTART:20251102T060000
END:STANDARD
BEGIN:DAYLIGHT
TZOFFSETFROM:-0500
TZOFFSETTO:-0400
TZNAME:EDT
DTSTART:20260308T070000
END:DAYLIGHT
BEGIN:STANDARD
TZOFFSETFROM:-0400
TZOFFSETTO:-0500
TZNAME:EST
DTSTART:20261101T060000
END:STANDARD
BEGIN:DAYLIGHT
TZOFFSETFROM:-0500
TZOFFSETTO:-0400
TZNAME:EDT
DTSTART:20270314T070000
END:DAYLIGHT
BEGIN:STANDARD
TZOFFSETFROM:-0400
TZOFFSETTO:-0500
TZNAME:EST
DTSTART:20271107T060000
END:STANDARD
END:VTIMEZONE
BEGIN:VEVENT
DTSTART;TZID=America/New_York:20260203T090000
DTEND;TZID=America/New_York:20260203T103000
DTSTAMP:20260422T212355
CREATED:20251020T234907Z
LAST-MODIFIED:20251020T234920Z
UID:2335-1770109200-1770114600@www.actongardenclub.org
SUMMARY:Business Meeting (Members Only)
DESCRIPTION:Hostess\nSandra Mika \nCommittee\nRosie Latto • Marilyn Mudry • Eloise Newell • Sherry Ryder \nActon Town Hall\, Room 204\, and Zoom\nSocial Time 9:00 am\nBusiness Meeting  9:30 am \nLight Refreshments • Bring your own beverage \n 
URL:https://www.actongardenclub.org/event/business-meeting-members-only-3/
LOCATION:Acton Town Hall\, Room 204\, 472 Main St\, Acton\, MA\, 01720\, United States
END:VEVENT
BEGIN:VEVENT
DTSTART;TZID=America/New_York:20260203T103000
DTEND;TZID=America/New_York:20260203T120000
DTSTAMP:20260422T212355
CREATED:20251004T052213Z
LAST-MODIFIED:20260113T021123Z
UID:2190-1770114600-1770120000@www.actongardenclub.org
SUMMARY:Invasive Plants: Techniques you don’t know + how to fight them with native plants
DESCRIPTION:Date Feb 3\, 2026 10:30am \nLocation Acton Town Hall Room 204 \nSpeaker Lisey Good\, Wild Cohasset founder \nTopic Invasive Plants: Techniques you don’t know + how to fight them with native plants \nDescription Lisey will discuss the major issue of invasive  plant species in our area\, how to identify them\, and why and how we should combat them involving the restoration of appropriate native plant species. \nInvasive plants range from a minor nuisance to a dire threat to endangered species and entire forests.  How to tell the difference?  And what are the best ways to identify and remove the plants that can do the greatest harm? This program will help gardeners identify common invasive plants in Massachusetts and will teach them how to deal with the very worst offenders.  It will include new techniques developed abroad– and even some “passive” methods that use native plants to fight the battle. \nLisey Good is the founder of Massachusetts-based environmental group Wild Cohasset\, which works to support the native plants of New England and to help all the wildlife that depend upon these plants for survival. A frequent lecturer on issues related to biodiversity and wildlife\, Lisey was formerly the on-air interior designer for the Emmy Award winning television program This Old House. Today\, she works in marketing\, PR and fundraising for animal welfare organizations such as Second Chance Animal Services. \nLisey will discuss the major issue of invasive plant species in our area\, how to identify them\, and why and how we should combat them involving the restoration of appropriate native plant species. \n  \nSocial Time 9:00 am\nBusiness Meeting 9:30 am\nProgram 10:30 am\nLight Refreshments • Bring your own beverage\nHostess : Sandra Mika\nCommittee: Rosie Latto • Marilyn Mudry • Eloise Newell • Sherry Ryder
URL:https://www.actongardenclub.org/event/invasive-plants-techniques-you-dont-know-how-to-fight-them-with-native-plants/
LOCATION:Acton Town Hall\, Room 204\, 472 Main St\, Acton\, MA\, 01720\, United States
END:VEVENT
BEGIN:VEVENT
DTSTART;TZID=America/New_York:20260210T090000
DTEND;TZID=America/New_York:20260210T120000
DTSTAMP:20260422T212355
CREATED:20251004T052340Z
LAST-MODIFIED:20251004T052340Z
UID:2194-1770714000-1770724800@www.actongardenclub.org
SUMMARY:Horticulture Study Group
DESCRIPTION:Spring Ephemerals\nProgram Leader: Cathy Fochtman\nLocation: Home of Heather Makris\nRefreshments: Tanaz Hashemi
URL:https://www.actongardenclub.org/event/horticulture-study-group-6/
END:VEVENT
BEGIN:VEVENT
DTSTART;TZID=America/New_York:20260224T090000
DTEND;TZID=America/New_York:20260224T120000
DTSTAMP:20260422T212355
CREATED:20251004T052409Z
LAST-MODIFIED:20251004T052409Z
UID:2196-1771923600-1771934400@www.actongardenclub.org
SUMMARY:Board Meeting
DESCRIPTION:Location: Home of Susanne Fuller\nRefreshments: Janet Irons
URL:https://www.actongardenclub.org/event/board-meeting-6/
END:VEVENT
BEGIN:VEVENT
DTSTART;VALUE=DATE:20260228
DTEND;VALUE=DATE:20260301
DTSTAMP:20260422T212355
CREATED:20251004T052424Z
LAST-MODIFIED:20251004T052510Z
UID:2198-1772236800-1772323199@www.actongardenclub.org
SUMMARY:Annual Reports Due
DESCRIPTION:Annual Reports Due \nMaking Gardening Easier as We Age \nJudy Dembsey shared strategies on how to ease gardening for our aging bodies. Those pesky knees and backs can make gardening a challenge\, so tips to make it easier are greatly appreciated. C Cutting back on maintenance is the top priority. We all love our variety of flowers and plants\, but they require a lot of work. Avoid digging\, planting\, or pruning for long periods of time. Take frequent breaks and hydrate while working. Weed the garden after a rainfall\, as moist soil makes it easier to pull weeds. Scale back your gardening work with fewer flowering plants. Substitute bushes for flowers since they do not require deadheading or as much pruning. Perfection is not required. Learn to live with a few weeds or less than manicured bushes or lawn. When maintaining your garden gets overwhelming\, hiring outside help might be the answer.
URL:https://www.actongardenclub.org/event/annual-reports-due/
END:VEVENT
END:VCALENDAR