BEGIN:VCALENDAR
VERSION:2.0
PRODID:-//The Acton Garden Club - ECPv6.15.20//NONSGML v1.0//EN
CALSCALE:GREGORIAN
METHOD:PUBLISH
X-ORIGINAL-URL:https://www.actongardenclub.org
X-WR-CALDESC:Events for The Acton Garden Club
REFRESH-INTERVAL;VALUE=DURATION:PT1H
X-Robots-Tag:noindex
X-PUBLISHED-TTL:PT1H
BEGIN:VTIMEZONE
TZID:America/New_York
BEGIN:DAYLIGHT
TZOFFSETFROM:-0500
TZOFFSETTO:-0400
TZNAME:EDT
DTSTART:20250309T070000
END:DAYLIGHT
BEGIN:STANDARD
TZOFFSETFROM:-0400
TZOFFSETTO:-0500
TZNAME:EST
DTSTART:20251102T060000
END:STANDARD
BEGIN:DAYLIGHT
TZOFFSETFROM:-0500
TZOFFSETTO:-0400
TZNAME:EDT
DTSTART:20260308T070000
END:DAYLIGHT
BEGIN:STANDARD
TZOFFSETFROM:-0400
TZOFFSETTO:-0500
TZNAME:EST
DTSTART:20261101T060000
END:STANDARD
BEGIN:DAYLIGHT
TZOFFSETFROM:-0500
TZOFFSETTO:-0400
TZNAME:EDT
DTSTART:20270314T070000
END:DAYLIGHT
BEGIN:STANDARD
TZOFFSETFROM:-0400
TZOFFSETTO:-0500
TZNAME:EST
DTSTART:20271107T060000
END:STANDARD
END:VTIMEZONE
BEGIN:VEVENT
DTSTART;TZID=America/New_York:20260526T090000
DTEND;TZID=America/New_York:20260526T120000
DTSTAMP:20260423T023529
CREATED:20251004T053854Z
LAST-MODIFIED:20251004T053854Z
UID:2228-1779786000-1779796800@www.actongardenclub.org
SUMMARY:Board Meeting
DESCRIPTION:Location: Home of Maura Sharp\nRefreshments: Laura Wolfe
URL:https://www.actongardenclub.org/event/board-meeting-9/
LOCATION:MA
END:VEVENT
BEGIN:VEVENT
DTSTART;TZID=America/New_York:20260602T090000
DTEND;TZID=America/New_York:20260602T103000
DTSTAMP:20260423T023529
CREATED:20251021T000530Z
LAST-MODIFIED:20251021T000611Z
UID:2344-1780390800-1780396200@www.actongardenclub.org
SUMMARY:Business Meeting (Members Only)
DESCRIPTION:Social Time : 9:00 am\nBusiness Meeting : 9:30 am
URL:https://www.actongardenclub.org/event/business-meeting-members-only-7/
LOCATION:St. Matthew’s United Methodist Church\, 435 Central St\, Acton\, MA\, 01720\, United States
END:VEVENT
BEGIN:VEVENT
DTSTART;TZID=America/New_York:20260602T103000
DTEND;TZID=America/New_York:20260602T120000
DTSTAMP:20260423T023529
CREATED:20251004T054042Z
LAST-MODIFIED:20251004T054042Z
UID:2230-1780396200-1780401600@www.actongardenclub.org
SUMMARY:Members Only - Wreaths for every Season with Susan Nock\, owner of Thistle
DESCRIPTION:Wreaths for every Season\nwith Susan Nock\, owner of Thistle\nWreaths are a universal symbol of welcome. This talk covers why and where\nto use wreaths\, the wide range of forms available and all the creative materials available: from dried flowers to living plants. There will be a slideshow\nthat highlights wreaths for each season and Susan will demonstrate how to\nmake a seasonal wreath. \nJune 2\, 2026\nSt. Matthew’s United Methodist Church (no Zoom)\nSocial Time 9:00 am\nBusiness Meeting 9:30 am\nProgram 10:30 am\nHigh Tea 12:00 pm\nHostesses\nLight Lunch provided by the Executive Board
URL:https://www.actongardenclub.org/event/members-only-wreaths-for-every-season-with-susan-nock-owner-of-thistle/
LOCATION:St. Matthew’s United Methodist Church\, 435 Central St\, Acton\, MA\, 01720\, United States
END:VEVENT
BEGIN:VEVENT
DTSTART;VALUE=DATE:20260610
DTEND;VALUE=DATE:20260611
DTSTAMP:20260423T023529
CREATED:20251004T054146Z
LAST-MODIFIED:20251004T054146Z
UID:2232-1781049600-1781135999@www.actongardenclub.org
SUMMARY:Flower Show Setup and Entry Date
DESCRIPTION:Flower Show Setup and Entry Date\nActon Memorial Library\n486 Main Street
URL:https://www.actongardenclub.org/event/flower-show-setup-and-entry-date/
LOCATION:Acton Memorial Library\, 486 Main Street\, Acton\, MA\, 01720\, United States
END:VEVENT
BEGIN:VEVENT
DTSTART;VALUE=DATE:20260611
DTEND;VALUE=DATE:20260614
DTSTAMP:20260423T023529
CREATED:20251004T054230Z
LAST-MODIFIED:20251004T054230Z
UID:2235-1781136000-1781395199@www.actongardenclub.org
SUMMARY:A Small Standard Flower Show
DESCRIPTION:A Small Standard Flower Show\nCelebrating Arts and Crafts\nActon Memorial Library\n486 Main Street
URL:https://www.actongardenclub.org/event/a-small-standard-flower-show/
LOCATION:Acton Memorial Library\, 486 Main Street\, Acton\, MA\, 01720\, United States
END:VEVENT
END:VCALENDAR