BEGIN:VCALENDAR
VERSION:2.0
PRODID:-//The Acton Garden Club - ECPv6.15.20//NONSGML v1.0//EN
CALSCALE:GREGORIAN
METHOD:PUBLISH
X-WR-CALNAME:The Acton Garden Club
X-ORIGINAL-URL:https://www.actongardenclub.org
X-WR-CALDESC:Events for The Acton Garden Club
REFRESH-INTERVAL;VALUE=DURATION:PT1H
X-Robots-Tag:noindex
X-PUBLISHED-TTL:PT1H
BEGIN:VTIMEZONE
TZID:America/New_York
BEGIN:DAYLIGHT
TZOFFSETFROM:-0500
TZOFFSETTO:-0400
TZNAME:EDT
DTSTART:20240310T070000
END:DAYLIGHT
BEGIN:STANDARD
TZOFFSETFROM:-0400
TZOFFSETTO:-0500
TZNAME:EST
DTSTART:20241103T060000
END:STANDARD
BEGIN:DAYLIGHT
TZOFFSETFROM:-0500
TZOFFSETTO:-0400
TZNAME:EDT
DTSTART:20250309T070000
END:DAYLIGHT
BEGIN:STANDARD
TZOFFSETFROM:-0400
TZOFFSETTO:-0500
TZNAME:EST
DTSTART:20251102T060000
END:STANDARD
BEGIN:DAYLIGHT
TZOFFSETFROM:-0500
TZOFFSETTO:-0400
TZNAME:EDT
DTSTART:20260308T070000
END:DAYLIGHT
BEGIN:STANDARD
TZOFFSETFROM:-0400
TZOFFSETTO:-0500
TZNAME:EST
DTSTART:20261101T060000
END:STANDARD
END:VTIMEZONE
BEGIN:VEVENT
DTSTART;TZID=America/New_York:20251104T090000
DTEND;TZID=America/New_York:20251104T103000
DTSTAMP:20260423T033829
CREATED:20251020T221210Z
LAST-MODIFIED:20251020T221300Z
UID:2331-1762246800-1762252200@www.actongardenclub.org
SUMMARY:Business Meeting (Members Only)
DESCRIPTION:Hostess\nDia Chigas \nCommittee\nKelly Clayton • Tanaz Hashemi • Mary Hurley-O’Neil • Diane Williams \nNovember 4\, 2025\nActon Town Hall\, Room 204\, and Zoom\nSocial Time 9:00 am\nBusiness Meeting 9:30 am\nProgram 10:30 am \nLight Refreshments • Bring your own beverage
URL:https://www.actongardenclub.org/event/business-meeting-members-only/
LOCATION:Acton Town Hall\, Room 204\, 472 Main St\, Acton\, MA\, 01720\, United States
END:VEVENT
BEGIN:VEVENT
DTSTART;TZID=America/New_York:20251104T103000
DTEND;TZID=America/New_York:20251104T120000
DTSTAMP:20260423T033829
CREATED:20251004T050835Z
LAST-MODIFIED:20251004T160419Z
UID:2166-1762252200-1762257600@www.actongardenclub.org
SUMMARY:Marvelous Mushrooms with Elizabeth Almeida
DESCRIPTION:Speaker Elizabeth Almeida\, Fat Moon Farm founder\n\nTopic Marvelous Mushrooms \nDescription Farmer Elizabeth will share her mycological expertise with us. In this program\, we will learn more about this fascinating food and the important role it plays in our diet\, our environment\, and the economy. \nSocial Time 9:00 am\nBusiness Meeting 9:30 am\nProgram 10:30 am\nLight Refreshments • Bring your own beverage \nHostess: Dia Chigas\nCommittee:\nKelly Clayton • Tanaz Hashemi • Mary Hurley-O’Neil • Diane Williams
URL:https://www.actongardenclub.org/event/marvelous-mushrooms-with-elizabeth-almeida/
LOCATION:Acton Town Hall\, Room 204\, 472 Main St\, Acton\, MA\, 01720\, United States
END:VEVENT
END:VCALENDAR