BEGIN:VCALENDAR
VERSION:2.0
PRODID:-//The Acton Garden Club - ECPv6.15.20//NONSGML v1.0//EN
CALSCALE:GREGORIAN
METHOD:PUBLISH
X-WR-CALNAME:The Acton Garden Club
X-ORIGINAL-URL:https://www.actongardenclub.org
X-WR-CALDESC:Events for The Acton Garden Club
REFRESH-INTERVAL;VALUE=DURATION:PT1H
X-Robots-Tag:noindex
X-PUBLISHED-TTL:PT1H
BEGIN:VTIMEZONE
TZID:America/New_York
BEGIN:DAYLIGHT
TZOFFSETFROM:-0500
TZOFFSETTO:-0400
TZNAME:EDT
DTSTART:20240310T070000
END:DAYLIGHT
BEGIN:STANDARD
TZOFFSETFROM:-0400
TZOFFSETTO:-0500
TZNAME:EST
DTSTART:20241103T060000
END:STANDARD
BEGIN:DAYLIGHT
TZOFFSETFROM:-0500
TZOFFSETTO:-0400
TZNAME:EDT
DTSTART:20250309T070000
END:DAYLIGHT
BEGIN:STANDARD
TZOFFSETFROM:-0400
TZOFFSETTO:-0500
TZNAME:EST
DTSTART:20251102T060000
END:STANDARD
BEGIN:DAYLIGHT
TZOFFSETFROM:-0500
TZOFFSETTO:-0400
TZNAME:EDT
DTSTART:20260308T070000
END:DAYLIGHT
BEGIN:STANDARD
TZOFFSETFROM:-0400
TZOFFSETTO:-0500
TZNAME:EST
DTSTART:20261101T060000
END:STANDARD
END:VTIMEZONE
BEGIN:VEVENT
DTSTART;TZID=America/New_York:20251020T090000
DTEND;TZID=America/New_York:20251020T103000
DTSTAMP:20260423T050804
CREATED:20251021T000410Z
LAST-MODIFIED:20251021T000410Z
UID:2342-1760950800-1760956200@www.actongardenclub.org
SUMMARY:Business Meeting (Members Only)
DESCRIPTION:Hostess : Lora Maloney\nCommittee : Nancy Dickinson • Shalini Lobo • Joy Madden • Lori Weissberg \nSt. Matthew’s United Methodist Church (no Zoom)\nSocial Time 9:00 am\nBusiness Meeting 9:30 am \nLight Refreshments • Bring your own beverage
URL:https://www.actongardenclub.org/event/business-meeting-members-only-6/
LOCATION:St. Matthew’s United Methodist Church\, 435 Central St\, Acton\, MA\, 01720\, United States
END:VEVENT
END:VCALENDAR