BEGIN:VCALENDAR
VERSION:2.0
PRODID:-//The Acton Garden Club - ECPv6.15.20//NONSGML v1.0//EN
CALSCALE:GREGORIAN
METHOD:PUBLISH
X-WR-CALNAME:The Acton Garden Club
X-ORIGINAL-URL:https://www.actongardenclub.org
X-WR-CALDESC:Events for The Acton Garden Club
REFRESH-INTERVAL;VALUE=DURATION:PT1H
X-Robots-Tag:noindex
X-PUBLISHED-TTL:PT1H
BEGIN:VTIMEZONE
TZID:America/New_York
BEGIN:DAYLIGHT
TZOFFSETFROM:-0500
TZOFFSETTO:-0400
TZNAME:EDT
DTSTART:20240310T070000
END:DAYLIGHT
BEGIN:STANDARD
TZOFFSETFROM:-0400
TZOFFSETTO:-0500
TZNAME:EST
DTSTART:20241103T060000
END:STANDARD
BEGIN:DAYLIGHT
TZOFFSETFROM:-0500
TZOFFSETTO:-0400
TZNAME:EDT
DTSTART:20250309T070000
END:DAYLIGHT
BEGIN:STANDARD
TZOFFSETFROM:-0400
TZOFFSETTO:-0500
TZNAME:EST
DTSTART:20251102T060000
END:STANDARD
BEGIN:DAYLIGHT
TZOFFSETFROM:-0500
TZOFFSETTO:-0400
TZNAME:EDT
DTSTART:20260308T070000
END:DAYLIGHT
BEGIN:STANDARD
TZOFFSETFROM:-0400
TZOFFSETTO:-0500
TZNAME:EST
DTSTART:20261101T060000
END:STANDARD
END:VTIMEZONE
BEGIN:VEVENT
DTSTART;TZID=America/New_York:20251014T090000
DTEND;TZID=America/New_York:20251014T120000
DTSTAMP:20260423T050804
CREATED:20251004T050131Z
LAST-MODIFIED:20251004T050131Z
UID:2159-1760432400-1760443200@www.actongardenclub.org
SUMMARY:Horticulture Study Group
DESCRIPTION:Horticulture Study Group\nHypertufa Workshop\nProgram Leaders: Anne Sterling and Janet Irons\nLocation: Home of Susanne Fuller\nRefreshments: Noreen Rowe
URL:https://www.actongardenclub.org/event/horticulture-study-group-3/
END:VEVENT
END:VCALENDAR